BEGIN:VCALENDAR
VERSION:2.0
PRODID:-//Tukios.com/
BEGIN:VEVENT
UID:0b942400-9ac6-4eda-972a-b92dcbbfe7f9@www.azlefuneralhome.com
DTSTAMP:20260423T224041Z
DTSTART:20260424T210000Z
DTEND:20260424T220000Z
SUMMARY:Burial
DESCRIPTION:
URL:https://www.azlefuneralhome.com/obituaries/robert-hatten
LOCATION: 850 N Cardinal Rd  Azle TX 76020
GEO:32.9478758;-97.5548529
END:VEVENT
END:VCALENDAR