BEGIN:VCALENDAR
VERSION:2.0
PRODID:-//Tukios.com/
BEGIN:VEVENT
UID:4b270413-8ece-4f67-a71e-d01a72e368c0@www.azlefuneralhome.com
DTSTAMP:20260423T224343Z
DTSTART:20260424T200000Z
DTEND:20260424T210000Z
SUMMARY:Funeral Service
DESCRIPTION:
URL:https://www.azlefuneralhome.com/obituaries/robert-hatten
LOCATION: 850 N Cardinal Rd  Azle TX 76020
GEO:32.9478758;-97.5548529
END:VEVENT
END:VCALENDAR