BEGIN:VCALENDAR
VERSION:2.0
PRODID:-//Tukios.com/
BEGIN:VEVENT
UID:7e65525e-59bb-4be8-8ca9-9182c0beba4a@www.azlefuneralhome.com
DTSTAMP:20260423T223619Z
DTSTART:20260424T190000Z
DTEND:20260424T200000Z
SUMMARY:Visitation
DESCRIPTION:
URL:https://www.azlefuneralhome.com/obituaries/robert-hatten
LOCATION: 850 N Cardinal Rd  Azle TX 76020
GEO:32.9478758;-97.5548529
END:VEVENT
END:VCALENDAR