BEGIN:VCALENDAR
VERSION:2.0
PRODID:-//Tukios.com/
BEGIN:VEVENT
UID:ce9b6bcf-77a8-4476-8ccf-844f037cbefd@www.azlefuneralhome.com
DTSTAMP:20260420T131317Z
DTSTART:20260423T180000Z
DTEND:20260423T190000Z
SUMMARY:Visitation
DESCRIPTION:
URL:https://www.azlefuneralhome.com/obituaries/patricia-byas
LOCATION:Azle & Lake Worth Funeral Home 850 N Cardinal Road  Azle TX 
	76020
GEO:32.9478758;-97.5548529
END:VEVENT
END:VCALENDAR