BEGIN:VCALENDAR
VERSION:2.0
PRODID:-//Tukios.com/
BEGIN:VEVENT
UID:920773bf-c23a-403f-ad0f-bcfc8b75b1ee@www.azlefuneralhome.com
DTSTAMP:20260420T131756Z
DTSTART:20260423T190000Z
DTEND:20260423T200000Z
SUMMARY:Funeral Service
DESCRIPTION:
URL:https://www.azlefuneralhome.com/obituaries/patricia-byas
LOCATION:Azle & Lake Worth Funeral Home 850 N Cardinal Road  Azle TX 
	76020
GEO:32.9478758;-97.5548529
END:VEVENT
END:VCALENDAR