BEGIN:VCALENDAR
VERSION:2.0
PRODID:-//Tukios.com/
BEGIN:VEVENT
UID:882bfbe8-a2d5-4d54-8224-e0681dd9e80d@www.azlefuneralhome.com
DTSTAMP:20260420T131302Z
DTSTART:20260423T200000Z
DTEND:20260423T203000Z
SUMMARY:Graveside Service
DESCRIPTION:
URL:https://www.azlefuneralhome.com/obituaries/patricia-byas
LOCATION:Azleland Memorial Park 850 N. Cardinal Rd  Azle TX 76020
GEO:32.9478758;-97.5548529
END:VEVENT
END:VCALENDAR