BEGIN:VCALENDAR
VERSION:2.0
PRODID:-//Tukios.com/
BEGIN:VEVENT
UID:42e19ea0-7241-42b1-8eff-5a5cf50ff7e4@www.azlefuneralhome.com
DTSTAMP:20260420T220249Z
DTSTART:20260422T160000Z
DTEND:20260422T170000Z
SUMMARY:Graveside Service
DESCRIPTION:
URL:https://www.azlefuneralhome.com/obituaries/karen-welch
LOCATION: 850 N Cardinal Rd  Azle TX 76020
GEO:32.9478758;-97.5548529
END:VEVENT
END:VCALENDAR