BEGIN:VCALENDAR
VERSION:2.0
PRODID:-//Tukios.com/
BEGIN:VEVENT
UID:f1ff1d31-d75e-4c8e-967e-3c37f40d9842@www.azlefuneralhome.com
DTSTAMP:20260425T011046Z
DTSTART:20260429T160000Z
DTEND:20260429T163000Z
SUMMARY:Burial
DESCRIPTION:
URL:https://www.azlefuneralhome.com/obituaries/franklin-taylor
LOCATION: 850 N Cardinal Rd  Azle TX 76020
GEO:32.9478758;-97.5548529
END:VEVENT
END:VCALENDAR