BEGIN:VCALENDAR
VERSION:2.0
PRODID:-//Tukios.com/
BEGIN:VEVENT
UID:a0a1f670-bab9-4225-b989-b9cdc45df9d1@www.azlefuneralhome.com
DTSTAMP:20260425T010930Z
DTSTART:20260429T150000Z
DTEND:20260429T160000Z
SUMMARY:Funeral Service
DESCRIPTION:
URL:https://www.azlefuneralhome.com/obituaries/franklin-taylor
LOCATION: 850 N Cardinal Rd  Azle TX 76020
GEO:32.9478758;-97.5548529
END:VEVENT
END:VCALENDAR